BEGIN:VCALENDAR
VERSION:2.0
PRODID:-//Torrent - ECPv6.3.3.1//NONSGML v1.0//EN
CALSCALE:GREGORIAN
METHOD:PUBLISH
X-WR-CALNAME:Torrent
X-ORIGINAL-URL:https://torrent.es/va/
X-WR-CALDESC:Events for Torrent
REFRESH-INTERVAL;VALUE=DURATION:PT1H
X-Robots-Tag:noindex
X-PUBLISHED-TTL:PT1H
BEGIN:VTIMEZONE
TZID:UTC
BEGIN:STANDARD
TZOFFSETFROM:+0000
TZOFFSETTO:+0000
TZNAME:UTC
DTSTART:20230101T000000
END:STANDARD
END:VTIMEZONE
BEGIN:VEVENT
DTSTART;TZID=UTC:20231216T093000
DTEND;TZID=UTC:20231216T140000
DTSTAMP:20260423T043108
CREATED:20231211T105021Z
LAST-MODIFIED:20231211T105021Z
UID:10000088-1702719000-1702735200@torrent.es
SUMMARY:Feria de l'adopció
DESCRIPTION:Et convidem a la 1a Fira de l’Adopció de Torrent\, que se celebrarà el dissabte 16 de desembre\, de 9.30 a 14:*00h\, en la plaça de la Unió Musical. \nAjuda’ns a trobar una família per a estos animals sense llar i porta’t un kit de regal i el xip de la teua mascota totalment gratuït. \nNo deixes passar l’oportunitat d’aportar el teu granet d’arena.
URL:https://torrent.es/va/evento/feria-de-ladopcio/
LOCATION:Plaza Unió Musical\, Plaza Unió Musical\, Torrent\, Valencia\, 46900\, España
CATEGORIES:Sanitat i Consum
ATTACH;FMTTYPE=image/png:https://torrent.es/wp-content/uploads/2023/12/DESTACADOS-AGENDA-TORRENT.es25.png
END:VEVENT
END:VCALENDAR