BEGIN:VCALENDAR
VERSION:2.0
PRODID:-//Torrent - ECPv6.3.3.1//NONSGML v1.0//EN
CALSCALE:GREGORIAN
METHOD:PUBLISH
X-WR-CALNAME:Torrent
X-ORIGINAL-URL:https://torrent.es/va/
X-WR-CALDESC:Events for Torrent
REFRESH-INTERVAL;VALUE=DURATION:PT1H
X-Robots-Tag:noindex
X-PUBLISHED-TTL:PT1H
BEGIN:VTIMEZONE
TZID:UTC
BEGIN:STANDARD
TZOFFSETFROM:+0000
TZOFFSETTO:+0000
TZNAME:UTC
DTSTART:20230101T000000
END:STANDARD
END:VTIMEZONE
BEGIN:VEVENT
DTSTART;TZID=UTC:20231122T190000
DTEND;TZID=UTC:20231122T190000
DTSTAMP:20260420T073526
CREATED:20231120T084037Z
LAST-MODIFIED:20231120T084434Z
UID:10000043-1700679600-1700679600@torrent.es
SUMMARY:XXIII Premis d'Interpretació Vicent Galbis
DESCRIPTION:Lliurament dels XXIII Premis d’Interpretació Vicent Galbis\, que se celebrarà en el Conservatori Professional de Música de Torrent\, el dimecres 22 de novembre a les 19.00 hores.
URL:https://torrent.es/va/evento/xxiii-premio-dinterpretacio-vicent-galbis/
LOCATION:Conservatori de Música\, Mestre Juan Roig Soler\, 4\, Torrent\, Valencia\, 46900\, España
CATEGORIES:Educació
ATTACH;FMTTYPE=image/png:https://torrent.es/wp-content/uploads/2023/11/DESTACADOS-AGENDA-TORRENT.es12.png
END:VEVENT
END:VCALENDAR