BEGIN:VCALENDAR
VERSION:2.0
PRODID:-//Torrent - ECPv6.3.3.1//NONSGML v1.0//EN
CALSCALE:GREGORIAN
METHOD:PUBLISH
X-ORIGINAL-URL:https://torrent.es/va/
X-WR-CALDESC:Events for Torrent
REFRESH-INTERVAL;VALUE=DURATION:PT1H
X-Robots-Tag:noindex
X-PUBLISHED-TTL:PT1H
BEGIN:VTIMEZONE
TZID:UTC
BEGIN:STANDARD
TZOFFSETFROM:+0000
TZOFFSETTO:+0000
TZNAME:UTC
DTSTART:20240101T000000
END:STANDARD
END:VTIMEZONE
BEGIN:VEVENT
DTSTART;TZID=UTC:20240202T170000
DTEND;TZID=UTC:20240204T140000
DTSTAMP:20260425T130634
CREATED:20240131T131949Z
LAST-MODIFIED:20240131T131949Z
UID:10000110-1706893200-1707055200@torrent.es
SUMMARY:Fira del Xocolate de Torrent
DESCRIPTION:Torrent es prepara per a la Gran Fira del Xocolate i de Sant Blai.\nTindrà lloc els dies 2\, 3 i 4 de febrer.\n\n\n\nEn el primer tram de l’Avinguda al Vedat.\n\n\n\nShowcookings\, exhibicions en directe i repartiment de xocolate per als assistents.\n\n\n\nNo te la pots perdre!
URL:https://torrent.es/va/evento/fira-del-xocolate-de-torrent/
CATEGORIES:Agenda Cap de Setmana
ATTACH;FMTTYPE=image/png:https://torrent.es/wp-content/uploads/2024/01/DESTACADOS-AGENDA-TORRENT.es29.png
END:VEVENT
END:VCALENDAR