BEGIN:VCALENDAR
VERSION:2.0
PRODID:-//Torrent - ECPv6.3.3.1//NONSGML v1.0//EN
CALSCALE:GREGORIAN
METHOD:PUBLISH
X-ORIGINAL-URL:https://torrent.es/va/
X-WR-CALDESC:Events for Torrent
REFRESH-INTERVAL;VALUE=DURATION:PT1H
X-Robots-Tag:noindex
X-PUBLISHED-TTL:PT1H
BEGIN:VTIMEZONE
TZID:UTC
BEGIN:STANDARD
TZOFFSETFROM:+0000
TZOFFSETTO:+0000
TZNAME:UTC
DTSTART:20260101T000000
END:STANDARD
END:VTIMEZONE
BEGIN:VEVENT
DTSTART;TZID=UTC:20260123T110000
DTEND;TZID=UTC:20260123T120000
DTSTAMP:20260423T184911
CREATED:20251211T190159Z
LAST-MODIFIED:20251211T190159Z
UID:10000198-1769166000-1769169600@torrent.es
SUMMARY:Contacontes
DESCRIPTION:Adaptat per a necessitats especials per *Kummerlin
URL:https://torrent.es/va/evento/contacontes-5/
LOCATION:Biblioteca Metro\, Avenida Al Vedat\, 103\, Torrent\, Valencia\, 46900
CATEGORIES:Biblioteques
ATTACH;FMTTYPE=image/jpeg:https://torrent.es/wp-content/uploads/2025/12/portada_Cuenta_Cuentos_300.jpg
END:VEVENT
END:VCALENDAR