BEGIN:VCALENDAR
VERSION:2.0
PRODID:-//Ayuntamiento de Torrent: Inicio - ECPv6.3.3.1//NONSGML v1.0//EN
CALSCALE:GREGORIAN
METHOD:PUBLISH
X-WR-CALNAME:Ayuntamiento de Torrent: Inicio
X-ORIGINAL-URL:https://torrent.es
X-WR-CALDESC:Events for Ayuntamiento de Torrent: Inicio
REFRESH-INTERVAL;VALUE=DURATION:PT1H
X-Robots-Tag:noindex
X-PUBLISHED-TTL:PT1H
BEGIN:VTIMEZONE
TZID:UTC
BEGIN:STANDARD
TZOFFSETFROM:+0000
TZOFFSETTO:+0000
TZNAME:UTC
DTSTART:20240101T000000
END:STANDARD
END:VTIMEZONE
BEGIN:VEVENT
DTSTART;TZID=UTC:20240801T183000
DTEND;TZID=UTC:20240831T233000
DTSTAMP:20260422T154004
CREATED:20240729T084241Z
LAST-MODIFIED:20240729T084241Z
UID:10000161-1722537000-1725147000@torrent.es
SUMMARY:A la Lluna de Torrent
DESCRIPTION:
URL:https://torrent.es/evento/a-la-lluna-de-torrent/
CATEGORIES:Agenda Fin de Semana,Cultura,Fiestas,Igualdad,Juventud
ATTACH;FMTTYPE=image/png:https://torrent.es/wp-content/uploads/2024/07/DESTACADOS-AGENDA-TORRENT.es49.png
END:VEVENT
BEGIN:VEVENT
DTSTART;TZID=UTC:20240916T170000
DTEND;TZID=UTC:20240922T233000
DTSTAMP:20260422T154004
CREATED:20240911T065201Z
LAST-MODIFIED:20240911T065201Z
UID:10000163-1726506000-1727047800@torrent.es
SUMMARY:Semana Europea de la Movilidad 2024
DESCRIPTION:Torrent celebra un año más la Semana Europea de la Movilidad\, con la siguiente programación: \nLUNES 16 SEPTIEMBRE\n17:00 h Circuito de educación vial infantil.\nUbicación: Plaza Mayor. \nMARTES 17 SEPTIEMBRE\n10:00 h Circuito de educación vial infantil.\nUbicación: Plaza Mayor. \n18:00 h Circuito de educación vial juvenil.\nUbicación: Plaza Mayor. \n21:00 h Cine y cena a la fresca.\nProyección de la película La bicicleta verde.\nUbicación: Plaza Unió Musical. \nMIÉRCOLES 18 SEPTIEMBRE\n10:00 h Circuito de educación vial infantil.\nUbicación: Plaza Mayor. \n18:00 h Actividad de la Asociación ASIDIT.\nUbicación: Avda. Vedat\, 5 \n18:00 h Circuito de educación vial juvenil.\nUbicación: Plaza Mayor. \n20:00 h La cara “B” de la ciudad.\nPaseo por Torrent con destino a uno de los lugares más especiales y desconocidos de la ciudad.\nSalida desde Fuente de las Ranas. \nJUEVES 19 SEPTIEMBRE\n10:00 h Circuito de educación vial infantil.\nUbicación: Plaza Mayor. \n10:00 h Inauguración Feria del Automóvil.\nUbicación: Plaza Obispo Benlloch. \n18:00 h Circuito de educación vial Juvenil.\nUbicación: Plaza Mayor. \nVIERNES 20 SEPTIEMBRE\n10:00 h  Feria del Automóvil.\nUbicación: Plaza Obispo Benlloch. \n19:00 h Empaqueta tu coche.\nActividad de concienciación a la ciudadanía sobre la necesidad de una movilidad multimodal y sostenible.\nUbicación: Avinguda Joan Carles I. \nSÁBADO 21 SEPTIEMBRE\n20:00 h Bicinit a les estrelles.\nRuta ciclista nocturna y realización de una observación astronómica en el Parque de Santa Ana (Albal).\nColabora: Astro Torrent.\nUbicación: Plaza Obispo Benlloch. \nDOMINGO 22 SEPTIEMBRE\n09.00 h Desayuno sostenible y vuelta en bici por la ciudad con motivo del “Día Europeo sin Coches”.\nOrganiza: Peña ciclista Torrent y Soterranya.\nColabora: Levante EMV.\nUbicación: Plaza Obispo Benlloch.
URL:https://torrent.es/evento/semana-europea-de-la-movilidad-2024/
CATEGORIES:Movilidad
ATTACH;FMTTYPE=image/png:https://torrent.es/wp-content/uploads/2024/09/DESTACADOS-AGENDA-TORRENT.es51.png
END:VEVENT
BEGIN:VEVENT
DTSTART;TZID=UTC:20240917T190000
DTEND;TZID=UTC:20240928T140000
DTSTAMP:20260422T154004
CREATED:20240911T070459Z
LAST-MODIFIED:20240911T070459Z
UID:10000165-1726599600-1727532000@torrent.es
SUMMARY:Exposición "Espacios de Silencio"
DESCRIPTION:L’Antic Mercat acoge la exposición retrospectiva «Espacios de Silencio» de la artista Amparo del Castillo y organizada por la Concejalía de Cultura. \nLa exposición permanecerá abierta desde el 17 hasta el 28 de septiembre\, con la inauguración el 17 de septiembre a las 19 horas. \nHorarios de exposición: \n\nDe lunes a sábado por la mañana de 11h a 14h.\nTardes de martes y viernes\, de 17h a 20h.\n\n 
URL:https://torrent.es/evento/exposicion-espacios-de-silencio/
LOCATION:Antic Mercat\, Cervantes\, 1\, Torrent\, Valencia\, 46900\, España
CATEGORIES:Cultura
ATTACH;FMTTYPE=image/png:https://torrent.es/wp-content/uploads/2024/09/DESTACADOS-AGENDA-TORRENT.es52.png
END:VEVENT
BEGIN:VEVENT
DTSTART;TZID=UTC:20241001T180000
DTEND;TZID=UTC:20241009T223000
DTSTAMP:20260422T154004
CREATED:20240924T072916Z
LAST-MODIFIED:20240924T072918Z
UID:10000169-1727805600-1728513000@torrent.es
SUMMARY:Programación Semana del 9 d'Octubre 2024
DESCRIPTION:Programación completa a la Semana del 1 al 9 de Octubre de 2024. Puedes ampliar la información. \nDIMARTS 1 D’OCTUBRE \n18:00 h. Inauguració Exposició Moros i Cristians. De l’1 al 16 d’octubre. Ubicació: Sala Exposicions Mercat Sant Gregori. \n18.30 h. Dia del Major Concert de la Banda de Majors de l´Horta Sud. Ubicació: Saló d’actes de la Unió Musical de Torrent Avinguda al Vedat\, 21. \n19.00 h. Inauguració Exposició “Identitat\, passió i art”. De l’1 al 14 d’octubre. Ubicació: Sala polivalent Antic Mercat. \nDIMECRES 2 D’OCTUBRE \n19.00 h. Shhcúchame “Especial Identitat Valenciana”. Ubicació: Saló d’actes Casa de Cultura. \n19.00 h. Presentació del Llibre “Torrent i la seua indumentària”\, nº2 de la col·lecció Gran Torrent. Ubicació: Sala polivalent Antic Mercat. \nDIVENDRES 4 D’OCTUBRE \n19.00 h. Contacontes: Tirantet el Valent. Ubicació: Plaça Pintor Miró. \n19.00 h. Col·loqui amb Calo Carratalà: Paisatgisme. Ubicació: Saló d’actes Casa de Cultura. \nDISSABTE 5 D’OCTUBRE \n11.00 h. Jocs Tradicionals Artesanals de Destresa i Lògica. Ubicació: Plaça Pedro Iturralde. \n11.00 h. Jocs Tradicionals. Ubicació: Av. Olímpica. \n12.00 h. Teatre infantil “El conte de Jaume I”. Ubicació: Plaça Fra Antonio Panes. \n12.00 h. Teatre infantil “Somnis Valencians”. Ubicació: Plaça Unió Musical. \n19.00 h. Homenatge a la Senyera\, Falla Sants Patrons. Ubicació: Parc de Trenor. \nDIUMENGE 6 D’OCTUBRE \n11.00 h. Jocs Tradicionals Artesanals de Destresa i Lògica. Ubicació: Plaça Fra Antonio Panes. \n11.00 h. Jocs Tradicionals. Ubicació: Plaça Unió Musical. \n12.00 h. Taller infantil “Aprenent de mosaiquer”. Ubicació: Av. Olímpica. \n19.00 h. Rondalles per a la xicalla. Ball de Torrent. Ubicació: Plaça Major. \nDILLUNS 7 D’OCTUBRE \n19.00 h. Presentació del llibre “Jaime I\, el Conquistador”\, de JUAN RAMÓN BARAT.  Ubicació: Saló d’actes Casa de Cultura. \nDIMARTS 8 D’OCTUBRE \n20.30 h. Xàquera de Torrent a Sant Lluís Bertran\, amb el Grup de Ball l’Ú i Dos del Llar Antonià. Ubicació: Parroquia de Sant Lluis Bertran. \nDIMECRES 9 D’OCTUBRE \n19.00 h. Processó Cívica. Ubicació: Des de l’Ajuntament fins a Plaça Major. \n20.00 h. Homenatge a Jaume I i a la Real Senyera. Concert extraordinari Banda UMT i el tenor Pascual Andreu\, homenatge a Nino Bravo. \nEspectacle de focs artificials. Ubicació: Plaça Major.
URL:https://torrent.es/evento/programacion-semana-del-9-doctubre-2024/
CATEGORIES:Alcaldia,Cultura
ATTACH;FMTTYPE=image/png:https://torrent.es/wp-content/uploads/2024/09/DESTACADOS-AGENDA-TORRENT.es54.png
END:VEVENT
BEGIN:VEVENT
DTSTART;TZID=UTC:20241012T170000
DTEND;TZID=UTC:20241012T230000
DTSTAMP:20260422T154004
CREATED:20240924T075146Z
LAST-MODIFIED:20240924T075146Z
UID:10000171-1728752400-1728774000@torrent.es
SUMMARY:Programación Día de la Hispanidad
DESCRIPTION:Programación completa a las actividades previstas para el 12 de Octubre\, Fiesta Nacional de España. \n12 de Octubre de 2024 \n17:00h La Gran Feria. Actividades infantiles en Parc Central.\n \n20:00h Jornada Gastronómica a beneficio de ADISTO en Parc Central. Degustación de platos típicos con la colaboración de las casas regionales y asociaciones de la ciudad de Torrent.\n \n21:00h Espectáculo musical “España en un Suspiro”. Homenaje al cancionero español con las icónicas coplas de la historia.\n \n23:00h Concierto con el grupo “Andercovers” en Parc Central. Disfruta de las grandes versiones del pop español.
URL:https://torrent.es/evento/programacion-dia-de-la-hispanidad/
CATEGORIES:Fiestas
ATTACH;FMTTYPE=image/png:https://torrent.es/wp-content/uploads/2024/09/DESTACADOS-AGENDA-TORRENT.es55.png
END:VEVENT
END:VCALENDAR