BEGIN:VCALENDAR
VERSION:2.0
PRODID:-//Ayuntamiento de Torrent: Inicio - ECPv6.3.3.1//NONSGML v1.0//EN
CALSCALE:GREGORIAN
METHOD:PUBLISH
X-WR-CALNAME:Ayuntamiento de Torrent: Inicio
X-ORIGINAL-URL:https://torrent.es
X-WR-CALDESC:Events for Ayuntamiento de Torrent: Inicio
REFRESH-INTERVAL;VALUE=DURATION:PT1H
X-Robots-Tag:noindex
X-PUBLISHED-TTL:PT1H
BEGIN:VTIMEZONE
TZID:UTC
BEGIN:STANDARD
TZOFFSETFROM:+0000
TZOFFSETTO:+0000
TZNAME:UTC
DTSTART:20230101T000000
END:STANDARD
END:VTIMEZONE
BEGIN:VEVENT
DTSTART;TZID=UTC:20231214T190000
DTEND;TZID=UTC:20231214T190000
DTSTAMP:20260425T131444
CREATED:20231212T075030Z
LAST-MODIFIED:20231212T075030Z
UID:10000091-1702580400-1702580400@torrent.es
SUMMARY:Evento de cierre de EDUSI
DESCRIPTION:Nos complace invitarte al acontecimiento de cierre del EDUSI de Torrent. Un proyecto Europeo de desarrollo regional\, cofinanciado con fondo FEDER que ha tenido lugar en nuestra ciudad en los últimos años. \nEste tendrá lugar a las nuevas instalaciones del Espai Sant Gregori (C/ Pintor Genovés)\, el próximo jueves\, 14 de diciembre de 2023 a las 19.00 horas.
URL:https://torrent.es/evento/evento-de-cierre-de-edusi/
LOCATION:Espai Sant Gregori\, Carrer Pintor Genovés\, Torrent\, Valencia\, 46900\, España
CATEGORIES:Otros
ATTACH;FMTTYPE=image/png:https://torrent.es/wp-content/uploads/2023/12/DESTACADOS-AGENDA-TORRENT.es26.png
END:VEVENT
BEGIN:VEVENT
DTSTART;TZID=UTC:20231215T130000
DTEND;TZID=UTC:20231215T133000
DTSTAMP:20260425T131444
CREATED:20231212T084125Z
LAST-MODIFIED:20231212T084125Z
UID:10000093-1702645200-1702647000@torrent.es
SUMMARY:Exposición 'La luz de Sorolla en tus manos'
DESCRIPTION:Este viernes 15 de diciembre a las 13 horas\, llega a Torrent la exposición ‘La luz de Sorolla en tus manos’ tras su éxito en Alicante.\n\n\n\nUna exposición accesible y para poder tocar las obras de Sorolla\, de la mano de Maatk Inclusión y con la colaboración del Grupo ONCE\, que estará en Torrent hasta el 15 de enero de 2024.\n\n\n\nEstará ubicada en el Espai Sant Gregori (acceso por C/Pintor Genovés) y que abrirá en el horario habitual del Mercado San Gregorio.
URL:https://torrent.es/evento/exposicion-la-luz-de-sorolla-en-tus-manos/
LOCATION:Espai Sant Gregori\, Carrer Pintor Genovés\, Torrent\, Valencia\, 46900\, España
CATEGORIES:Otros
ATTACH;FMTTYPE=image/png:https://torrent.es/wp-content/uploads/2023/12/DESTACADOS-AGENDA-TORRENT.es27.png
END:VEVENT
BEGIN:VEVENT
DTSTART;TZID=UTC:20231215T163000
DTEND;TZID=UTC:20231215T170000
DTSTAMP:20260425T131444
CREATED:20231211T104434Z
LAST-MODIFIED:20231211T104434Z
UID:10000084-1702657800-1702659600@torrent.es
SUMMARY:Decoración del Centro Virgen del Olivar
DESCRIPTION:Decoración navideña del Centro de Mayores Virgen del Olivar
URL:https://torrent.es/evento/decoracion-del-centro-virgen-del-olivar/
LOCATION:Valencia
CATEGORIES:Mayor
ATTACH;FMTTYPE=image/png:https://torrent.es/wp-content/uploads/2023/11/DESTACADOS-AGENDA-TORRENT.es20.png
END:VEVENT
BEGIN:VEVENT
DTSTART;TZID=UTC:20231215T163000
DTEND;TZID=UTC:20231215T170000
DTSTAMP:20260425T131444
CREATED:20231211T104434Z
LAST-MODIFIED:20231211T104434Z
UID:10000085-1702657800-1702659600@torrent.es
SUMMARY:Decoració del Centre Virgen del Olivar
DESCRIPTION:Decoració nadalenca del Centre de Majors Verge de l’Olivar
URL:https://torrent.es/evento/decoracio-del-centre-virgen-del-olivar/
LOCATION:Valencia
END:VEVENT
END:VCALENDAR