BEGIN:VCALENDAR
VERSION:2.0
PRODID:-//Ayuntamiento de Torrent: Inicio - ECPv6.3.3.1//NONSGML v1.0//EN
CALSCALE:GREGORIAN
METHOD:PUBLISH
X-WR-CALNAME:Ayuntamiento de Torrent: Inicio
X-ORIGINAL-URL:https://torrent.es
X-WR-CALDESC:Events for Ayuntamiento de Torrent: Inicio
REFRESH-INTERVAL;VALUE=DURATION:PT1H
X-Robots-Tag:noindex
X-PUBLISHED-TTL:PT1H
BEGIN:VTIMEZONE
TZID:UTC
BEGIN:STANDARD
TZOFFSETFROM:+0000
TZOFFSETTO:+0000
TZNAME:UTC
DTSTART:20230101T000000
END:STANDARD
END:VTIMEZONE
BEGIN:VEVENT
DTSTART;TZID=UTC:20231130T180000
DTEND;TZID=UTC:20231130T180000
DTSTAMP:20260423T031032
CREATED:20231123T082826Z
LAST-MODIFIED:20231123T082826Z
UID:10000054-1701367200-1701367200@torrent.es
SUMMARY:Video Forum “INVISIBLES” de Gracia Querejeta
DESCRIPTION:Video Forum “INVISIBLES” de Gracia Querejeta\, una llamada de atención sobre la invisibilidad de las mujeres en la sociedad a partir de los 50 años.\n30 de noviembre a las 18:00 horas en la Casa de la Dona.\nEntrada libre.
URL:https://torrent.es/evento/video-forum-invisibles-de-gracia-querejeta/
LOCATION:Casa de la Dona\, Músico Mariano Puig Yago\, 8\, Torrent\, Valencia\, 46900\, España
CATEGORIES:Igualdad
ATTACH;FMTTYPE=image/png:https://torrent.es/wp-content/uploads/2023/11/DESTACADOS-AGENDA-TORRENT.es7_.png
END:VEVENT
BEGIN:VEVENT
DTSTART;TZID=UTC:20231130T190000
DTEND;TZID=UTC:20231130T190000
DTSTAMP:20260423T031033
CREATED:20231130T080645Z
LAST-MODIFIED:20231130T080927Z
UID:10000066-1701370800-1701370800@torrent.es
SUMMARY:XXXVII Gala de l'Esport
DESCRIPTION:La Fundació Esportiva Municipal celebra el 30 de noviembre a las 19 horas la 37 Gala de l’Esport\, que en esta edición se celebrará en el EMAT (Avenidal al Vedat\, 103).
URL:https://torrent.es/evento/xxxvii-gala-de-lesport/
LOCATION:EMAT\, Avenida al Vedat\, 103\, Torrent\, Valencia\, 46900\, España
CATEGORIES:Deporte
ATTACH;FMTTYPE=image/png:https://torrent.es/wp-content/uploads/2023/11/DESTACADOS-AGENDA-TORRENT.es21.png
END:VEVENT
BEGIN:VEVENT
DTSTART;TZID=UTC:20231201T093000
DTEND;TZID=UTC:20231201T093000
DTSTAMP:20260423T031033
CREATED:20231123T083242Z
LAST-MODIFIED:20231123T083242Z
UID:10000056-1701423000-1701423000@torrent.es
SUMMARY:Marisa Crespo formación para profesionales el sistema prostitucional en la CV
DESCRIPTION:FORMACIÓN PARA PROFESIONALES el sistema prostitucional en la Comunidad Valenciana. \nMarisa Crespo Escribá\, socióloga responsable de la investigación INFORME MEDITERRÁNEO para la Universidad de Valencia\, conselleria de justicia y Foro Abolicionista. \n1 de diciembre de 2023 de 09:30 a 11:30 horas – Casa de la Dona\nConfirmar asistencia.
URL:https://torrent.es/evento/marisa-crespo-formacion-para-profesionales-el-sistema-prostitucional-en-la-cv/
LOCATION:Casa de la Dona\, Músico Mariano Puig Yago\, 8\, Torrent\, Valencia\, 46900\, España
CATEGORIES:Igualdad
ATTACH;FMTTYPE=image/png:https://torrent.es/wp-content/uploads/2023/11/DESTACADOS-AGENDA-TORRENT.es7_.png
END:VEVENT
BEGIN:VEVENT
DTSTART;TZID=UTC:20231201T180000
DTEND;TZID=UTC:20231203T210000
DTSTAMP:20260423T031033
CREATED:20231127T080351Z
LAST-MODIFIED:20231129T125921Z
UID:10000062-1701453600-1701637200@torrent.es
SUMMARY:Mercado Navideño
DESCRIPTION:Torrent comienza el mes de diciembre con un Mercado Navideño en el que los comercios de Torrent ofrecerán los mejores productos y adornos para esta próxima Navidad en la Plaza Unió Musical. Habrá actividades y talleres para los más peques. \nSerá los días 1\, 2 y 3 de diciembre. Inauguración el viernes 1 de diciembre a las 18 horas. \nHorario 1 de diciembre: 18h. a 21h. \nHorario 2 y 3 de diciembre: 11h. a 14h. y de 17h. a 21h.
URL:https://torrent.es/evento/mercado-navideno/
LOCATION:Plaza Unió Musical\, Plaza Unió Musical\, Torrent\, Valencia\, 46900\, España
CATEGORIES:Idea't
ATTACH;FMTTYPE=image/png:https://torrent.es/wp-content/uploads/2023/11/DESTACADOS-AGENDA-TORRENT.es19.png
END:VEVENT
BEGIN:VEVENT
DTSTART;TZID=UTC:20231201T200000
DTEND;TZID=UTC:20231201T200000
DTSTAMP:20260423T031033
CREATED:20231129T114954Z
LAST-MODIFIED:20231129T114954Z
UID:10000064-1701460800-1701460800@torrent.es
SUMMARY:Fiesta inauguración de la iluminación navideña
DESCRIPTION:Torrent adelanta la Navidad al viernes 1 de diciembre\, con el encendido de luces\, tal y como solicita el comercio local. \nA partir de las 20 horas en la puerta del Ayuntamiento de Torrent\, contaremos con un espectáculo musical en el que participan 100 niños y niñas del Círculo Católico de Torrent\, la Unió Musical de Torrent y la Escola Coral. \nA continuación\, veremos el espectáculo en la fachada del Ayuntamiento\, que volverá a estar a cargo del alumnado del ciclo de Imagen y Sonido del IES La Marxadella. \nActo seguido\, la pirotecnia Hermanos Caballer deleitará a los asistentes con una mascletà nocturna en la calle Ramón y Cajal.
URL:https://torrent.es/evento/fiesta-inauguracion-de-la-iluminacion-navidena/
LOCATION:Ajuntament de Torrent\, Ramón y Cajal\, 1\, Torrent\, Valencia\, 46900\, España
CATEGORIES:Fiestas
ATTACH;FMTTYPE=image/png:https://torrent.es/wp-content/uploads/2023/11/DESTACADOS-AGENDA-TORRENT.es20.png
END:VEVENT
BEGIN:VEVENT
DTSTART;TZID=UTC:20231202T110000
DTEND;TZID=UTC:20231202T110000
DTSTAMP:20260423T031033
CREATED:20231123T081451Z
LAST-MODIFIED:20231123T081451Z
UID:10000050-1701514800-1701514800@torrent.es
SUMMARY:Torrent Digital Day
DESCRIPTION:¿Quieres ser parte de la revolución tecnológica que está cambiando el futuro de Torrent? \nDescubre cómo la tecnología está transformando Torrent en una ciudad inteligente para ti en el Torrent Digital Day. Un día donde podrás experimentar y vivir en primera persona todas las soluciones innovadoras que ha creado el Ajuntament de Torrent para hacer tu vida más fácil y accesible. \nNo te lo pierdas y participa en esta experiencia única.\n¡Regístrate y sé parte de la revolución tecnológica en Torrent! \nFecha: 2 de diciembre\nLugar: Avinguda al Vedat 103\, enfrente del Edificio Metro.\nMás información e inscripciones en https://innovayaccion.com/torrent-digital-day \n#TorrentDigitalDay #CiudadInteligenteParaTi
URL:https://torrent.es/evento/torrent-digital-day/
LOCATION:Avenida al Vedat\, 103\, Avenida al Vedat\, 103\, Torrent\, Valencia\, 46900\, España
CATEGORIES:Modernización
ATTACH;FMTTYPE=image/png:https://torrent.es/wp-content/uploads/2023/11/DESTACADOS-AGENDA-TORRENT.es16.png
END:VEVENT
BEGIN:VEVENT
DTSTART;TZID=UTC:20231208T060000
DTEND;TZID=UTC:20231208T200000
DTSTAMP:20260423T031033
CREATED:20231205T075531Z
LAST-MODIFIED:20231205T075531Z
UID:10000070-1702015200-1702065600@torrent.es
SUMMARY:Fiesta de la Inmaculada
DESCRIPTION:Tras el encendido de luces de Navidad\, la ciudad de Torrent continua el calendario festivo de Navidad con la Fiesta de la Purísima \n06:00 horas: Aurora desde la Parroquia de Monte-Sión con parada en el Ayuntamiento \n12:00 horas: Eucaristía en la Parroquia de Nuestra Señora de la Asunción \n18:30 horas: Procesión \n20:00 horas: Inauguración del Belén de Vicent Pallardó en la Plaza Corts Valencianes
URL:https://torrent.es/evento/fiesta-de-la-inmaculada/
CATEGORIES:Fiestas
ATTACH;FMTTYPE=image/png:https://torrent.es/wp-content/uploads/2023/12/DESTACADOS-AGENDA-TORRENT.es23.png
END:VEVENT
BEGIN:VEVENT
DTSTART;TZID=UTC:20231208T200000
DTEND;TZID=UTC:20231208T200000
DTSTAMP:20260423T031033
CREATED:20231205T080339Z
LAST-MODIFIED:20231205T080339Z
UID:10000072-1702065600-1702065600@torrent.es
SUMMARY:Inauguración del Belén monumental de Vicent Pallardó
DESCRIPTION:Torrent recupera en esta Navidad el Belén monumental que creó el escultor torrentino Vicent Pallardó en 1971 y que se instaló hasta 1976 en la Plaza Moralets. \n50 años después\, el Belén creado por el Gremi d’Artistes Fallers recupera el original del escultor torrentino y será instalado desde el 8 de diciembre hasta el 6 de enero en la Plaza Corts Valencianes\, como el original. \nLa inauguración del Belén será el viernes\, 8 de diciembre de 2023 a las 20 horas.
URL:https://torrent.es/evento/inauguracion-del-belen-monumental-de-vicent-pallardo/
LOCATION:Plaza Corts Valencianes\, Plaza de les Corts Valencianes\, Torrent\, Valencia\, 46900\, España
CATEGORIES:Cultura
ATTACH;FMTTYPE=image/png:https://torrent.es/wp-content/uploads/2023/11/Nadal-09.png
END:VEVENT
BEGIN:VEVENT
DTSTART;TZID=UTC:20231212T080000
DTEND;TZID=UTC:20231212T163000
DTSTAMP:20260423T031033
CREATED:20231211T102626Z
LAST-MODIFIED:20231211T102626Z
UID:10000074-1702368000-1702398600@torrent.es
SUMMARY:Decoración de Navidad Centro de Mayores San Enrique
DESCRIPTION:El Centro de Mayores San Enrique decora su centro por Navidad
URL:https://torrent.es/evento/decoracion-de-navidad-centro-de-mayores-san-enrique/
CATEGORIES:Mayor
ATTACH;FMTTYPE=image/png:https://torrent.es/wp-content/uploads/2023/11/DESTACADOS-AGENDA-TORRENT.es20.png
END:VEVENT
BEGIN:VEVENT
DTSTART;TZID=UTC:20231213T163000
DTEND;TZID=UTC:20231213T170000
DTSTAMP:20260423T031033
CREATED:20231211T102934Z
LAST-MODIFIED:20231211T102934Z
UID:10000076-1702485000-1702486800@torrent.es
SUMMARY:Decoración del Centro de Mayores Bellido
DESCRIPTION:El Centro de Mayores Bellido decora de Navidad su centro
URL:https://torrent.es/evento/decoracion-del-centro-de-mayores-bellido/
CATEGORIES:Mayor
ATTACH;FMTTYPE=image/png:https://torrent.es/wp-content/uploads/2023/11/DESTACADOS-AGENDA-TORRENT.es20.png
END:VEVENT
BEGIN:VEVENT
DTSTART;TZID=UTC:20231213T170000
DTEND;TZID=UTC:20231213T170000
DTSTAMP:20260423T031033
CREATED:20231211T103239Z
LAST-MODIFIED:20231211T103239Z
UID:10000078-1702486800-1702486800@torrent.es
SUMMARY:Rondalla de l'Ú i Dos en San Enrique
DESCRIPTION:Merienda y actuación de la Rondalla de l’Ú i Dos en el Centro de Mayores San Enrique
URL:https://torrent.es/evento/rondalla-de-lu-i-dos-en-san-enrique/
CATEGORIES:Mayor
ATTACH;FMTTYPE=image/png:https://torrent.es/wp-content/uploads/2023/11/DESTACADOS-AGENDA-TORRENT.es20.png
END:VEVENT
BEGIN:VEVENT
DTSTART;TZID=UTC:20231214T170000
DTEND;TZID=UTC:20231214T170000
DTSTAMP:20260423T031033
CREATED:20231211T103756Z
LAST-MODIFIED:20231211T103756Z
UID:10000080-1702573200-1702573200@torrent.es
SUMMARY:Rondalla de Camí la Noria en Bellido
DESCRIPTION:Merienda y actuación de la Rondalla de Camí la Noria en el Centro de mayores Bellido
URL:https://torrent.es/evento/rondalla-de-cami-la-noria-en-bellido/
CATEGORIES:Mayor
ATTACH;FMTTYPE=image/png:https://torrent.es/wp-content/uploads/2023/11/DESTACADOS-AGENDA-TORRENT.es20.png
END:VEVENT
BEGIN:VEVENT
DTSTART;TZID=UTC:20231214T190000
DTEND;TZID=UTC:20231214T190000
DTSTAMP:20260423T031033
CREATED:20231212T075030Z
LAST-MODIFIED:20231212T075030Z
UID:10000091-1702580400-1702580400@torrent.es
SUMMARY:Evento de cierre de EDUSI
DESCRIPTION:Nos complace invitarte al acontecimiento de cierre del EDUSI de Torrent. Un proyecto Europeo de desarrollo regional\, cofinanciado con fondo FEDER que ha tenido lugar en nuestra ciudad en los últimos años. \nEste tendrá lugar a las nuevas instalaciones del Espai Sant Gregori (C/ Pintor Genovés)\, el próximo jueves\, 14 de diciembre de 2023 a las 19.00 horas.
URL:https://torrent.es/evento/evento-de-cierre-de-edusi/
LOCATION:Espai Sant Gregori\, Carrer Pintor Genovés\, Torrent\, Valencia\, 46900\, España
CATEGORIES:Otros
ATTACH;FMTTYPE=image/png:https://torrent.es/wp-content/uploads/2023/12/DESTACADOS-AGENDA-TORRENT.es26.png
END:VEVENT
END:VCALENDAR