BEGIN:VCALENDAR
VERSION:2.0
PRODID:-//Ayuntamiento de Torrent: Inicio - ECPv6.3.3.1//NONSGML v1.0//EN
CALSCALE:GREGORIAN
METHOD:PUBLISH
X-WR-CALNAME:Ayuntamiento de Torrent: Inicio
X-ORIGINAL-URL:https://torrent.es
X-WR-CALDESC:Events for Ayuntamiento de Torrent: Inicio
REFRESH-INTERVAL;VALUE=DURATION:PT1H
X-Robots-Tag:noindex
X-PUBLISHED-TTL:PT1H
BEGIN:VTIMEZONE
TZID:UTC
BEGIN:STANDARD
TZOFFSETFROM:+0000
TZOFFSETTO:+0000
TZNAME:UTC
DTSTART:20230101T000000
END:STANDARD
END:VTIMEZONE
BEGIN:VEVENT
DTSTART;TZID=UTC:20231122T190000
DTEND;TZID=UTC:20231122T190000
DTSTAMP:20260423T230744
CREATED:20231120T084037Z
LAST-MODIFIED:20231120T084300Z
UID:10000042-1700679600-1700679600@torrent.es
SUMMARY:XXIII Premios de Interpretación Vicent Galbis
DESCRIPTION:Entrega de los XXIII Premios de Interpretación Vicent Galbis\, que se celebrará en el Conservatori Prodessional de Música de Torrent\, el miércoles 22 de noviembre a las 19:00 horas.
URL:https://torrent.es/evento/xxiii-premios-de-interpretacion-vicent-galbis/
LOCATION:Conservatori de Música\, Mestre Juan Roig Soler\, 4\, Torrent\, Valencia\, 46900\, España
CATEGORIES:Educación
ATTACH;FMTTYPE=image/png:https://torrent.es/wp-content/uploads/2023/11/DESTACADOS-AGENDA-TORRENT.es12.png
END:VEVENT
BEGIN:VEVENT
DTSTART;TZID=UTC:20231123T171500
DTEND;TZID=UTC:20231123T171500
DTSTAMP:20260423T230744
CREATED:20231120T081911Z
LAST-MODIFIED:20231120T081911Z
UID:10000040-1700759700-1700759700@torrent.es
SUMMARY:Talleres Ambientales en las Plazas
DESCRIPTION:Torrent celebra otra tarde de Talleres Ambientales para este jueves\, 23 de noviembre a las 17:15 horas en la AVV El Vedat (c/ Fuente de San Luis).
URL:https://torrent.es/evento/talleres-ambientales-en-las-plazas-2/
LOCATION:Calle Fuente de San Luis\, Calle Font de Sant Lluis\, Torrent\, Valencia\, 46900\, España
CATEGORIES:Medio Ambiente
ATTACH;FMTTYPE=image/png:https://torrent.es/wp-content/uploads/2023/11/DESTACADOS-AGENDA-TORRENT.es11.png
END:VEVENT
BEGIN:VEVENT
DTSTART;TZID=UTC:20231124T120000
DTEND;TZID=UTC:20231124T170000
DTSTAMP:20260423T230744
CREATED:20231120T075101Z
LAST-MODIFIED:20231120T075101Z
UID:10000032-1700827200-1700845200@torrent.es
SUMMARY:Día internacional para la eliminación de la violencia contra las mujeres
DESCRIPTION:12h. Lectura de manifiesto \n19h. Marcha
URL:https://torrent.es/evento/dia-internacional-para-la-eliminacion-de-la-violencia-contra-las-mujeres/
LOCATION:Plaza Obispo Belloch\, Plaza Obispo Benlloch\, Torrent\, Valencia\, 46900\, España
CATEGORIES:Igualdad
ATTACH;FMTTYPE=image/png:https://torrent.es/wp-content/uploads/2023/11/DESTACADOS-AGENDA-TORRENT.es7_.png
END:VEVENT
BEGIN:VEVENT
DTSTART;TZID=UTC:20231124T190000
DTEND;TZID=UTC:20231125T190000
DTSTAMP:20260423T230744
CREATED:20231121T090929Z
LAST-MODIFIED:20231121T090929Z
UID:10000044-1700852400-1700938800@torrent.es
SUMMARY:"Pintem contra la violència" 25N
DESCRIPTION:25N Día Internacional de la eliminación de la violencia contra la mujer.\nCon la colaboración de Casa de la Dona de Torrent\, la Falla Barri Cotxera organiza dos jornadas de sensibilización contra la violencia para todas las edades: \nEl acontecimiento principal tendrá lugar el sábado 25 de noviembre con la pintura de un mural en el callejón del lado del casal. \nHabrá comida y música. Además\, las profesoras de los talleres de dibujo de Casa de la Dona guiarán en las actividades: juegos y pintura mural. \nPreviamente al acontecimiento tendrán una tarde de cuentacuentos contra la violencia que inspiró a la comisión (sobre todo a infantiles) para dibujar o escribir propuestas para el mural. \nAna\, la profesora encargada de dibujo\, hará un mix con todas las ideas y lo plasmará en un dibujo que convertirán en mural lo 25N. \nLa comisión puede participar con ideas y ayudar a Ana a pintar ese día. Trabajan conjuntamente con Casa de la Dona y el Ayuntamiento de Torrent y\, con el apoyo de la comunidad de vecinos que los autoriza a pintar en su pared. \nEsta actividad se enmarca dentro de la semana contra la Violencia de género de Casa de la Dona por el que estarán dentro de su programación y está pensada cómo una actividad abierta en toda la población.
URL:https://torrent.es/evento/pintem-contra-la-violencia-25n/
LOCATION:Valencia
CATEGORIES:Igualdad
ATTACH;FMTTYPE=image/png:https://torrent.es/wp-content/uploads/2023/11/DESTACADOS-AGENDA-TORRENT.es13.png
END:VEVENT
BEGIN:VEVENT
DTSTART;TZID=UTC:20231125T120000
DTEND;TZID=UTC:20231125T140000
DTSTAMP:20260423T230744
CREATED:20231121T125526Z
LAST-MODIFIED:20231121T130249Z
UID:10000046-1700913600-1700920800@torrent.es
SUMMARY:"El Show de la Pandilla de Drilo" en la Pl. Unió Musical
DESCRIPTION:Acompáñanos este sábado en la plaza de la Unió Musical para disfrutar del show infantil que ofrecerá la «Pandilla de Drilo» a partir de las 12:30h.\n\n\n\nEl evento tiene como objetivo dar a conocer las recientes obras del nuevo Centro Social ubicado en las antiguas instalaciones de la Tesorería de la Seguridad Social\, proyecto que ha sido cofinanciado por la Unión Europea.\n\n\n\nPara más información: https://acortar.link/uoOM6P
URL:https://torrent.es/evento/el-show-de-la-pandilla-de-drilo-en-la-pl-unio-musical/
LOCATION:Plaza Unió Musical\, Plaza Unió Musical\, Torrent\, Valencia\, 46900\, España
CATEGORIES:Otros
ATTACH;FMTTYPE=image/png:https://torrent.es/wp-content/uploads/2023/11/DESTACADOS-AGENDA-TORRENT.es14.png
END:VEVENT
BEGIN:VEVENT
DTSTART;TZID=UTC:20231125T190000
DTEND;TZID=UTC:20231125T190000
DTSTAMP:20260423T230744
CREATED:20231120T075706Z
LAST-MODIFIED:20231120T075706Z
UID:10000034-1700938800-1700938800@torrent.es
SUMMARY:Premios Carta de Poblament
DESCRIPTION:Torrent celebra una nueva edición de los Premios Carta de Poblament\, será el sábado 25 de noviembre a las 19 horas en el EMAT
URL:https://torrent.es/evento/premios-carta-de-poblament/
LOCATION:EMAT\, Avenida al Vedat\, 103\, Torrent\, Valencia\, 46900\, España
CATEGORIES:Cultura
ATTACH;FMTTYPE=image/png:https://torrent.es/wp-content/uploads/2023/11/DESTACADOS-AGENDA-TORRENT.es8_.png
END:VEVENT
BEGIN:VEVENT
DTSTART;TZID=UTC:20231126T110000
DTEND;TZID=UTC:20231126T110000
DTSTAMP:20260423T230744
CREATED:20231120T080421Z
LAST-MODIFIED:20231120T080523Z
UID:10000036-1700996400-1700996400@torrent.es
SUMMARY:Jornada de reforestación
DESCRIPTION:Dentro del Mes del Medio Ambiente se realizará una jornada de reforestación en el Campo de Tiro Perenxisa\, el domingo 26 de noviembre a las 11:00h.
URL:https://torrent.es/evento/jornada-de-reforestacion/
LOCATION:Valencia
CATEGORIES:Medio Ambiente
ATTACH;FMTTYPE=image/png:https://torrent.es/wp-content/uploads/2023/11/DESTACADOS-AGENDA-TORRENT.es9_.png
END:VEVENT
END:VCALENDAR