BEGIN:VCALENDAR
VERSION:2.0
PRODID:-//Ayuntamiento de Torrent: Inicio - ECPv6.3.3.1//NONSGML v1.0//EN
CALSCALE:GREGORIAN
METHOD:PUBLISH
X-WR-CALNAME:Ayuntamiento de Torrent: Inicio
X-ORIGINAL-URL:https://torrent.es
X-WR-CALDESC:Events for Ayuntamiento de Torrent: Inicio
REFRESH-INTERVAL;VALUE=DURATION:PT1H
X-Robots-Tag:noindex
X-PUBLISHED-TTL:PT1H
BEGIN:VTIMEZONE
TZID:Europe/Helsinki
BEGIN:DAYLIGHT
TZOFFSETFROM:+0200
TZOFFSETTO:+0300
TZNAME:EEST
DTSTART:20230326T010000
END:DAYLIGHT
BEGIN:STANDARD
TZOFFSETFROM:+0300
TZOFFSETTO:+0200
TZNAME:EET
DTSTART:20231029T010000
END:STANDARD
TZID:UTC
BEGIN:STANDARD
TZOFFSETFROM:+0000
TZOFFSETTO:+0000
TZNAME:UTC
DTSTART:20230101T000000
END:STANDARD
END:VTIMEZONE
BEGIN:VEVENT
DTSTART;TZID=Europe/Helsinki:20231006T210000
DTEND;TZID=Europe/Helsinki:20231006T210000
DTSTAMP:20260424T150724
CREATED:20230926T110719Z
LAST-MODIFIED:20231003T074339Z
UID:10000009-1696626000-1696626000@torrent.es
SUMMARY:Talleres casa dona
DESCRIPTION:
URL:https://torrent.es/evento/talleres-cas-dona/
LOCATION:Salón de Actos Casa de Cultura\, C/ Luis Vives 8\, Torrent\, España
CATEGORIES:Otros
ATTACH;FMTTYPE=image/jpeg:https://torrent.es/wp-content/uploads/2023/09/IMGDEST-Actividades-Dona-Sept-Dic-2023-1.jpg
END:VEVENT
BEGIN:VEVENT
DTSTART;TZID=UTC:20231115T200000
DTEND;TZID=UTC:20231115T200000
DTSTAMP:20260424T150724
CREATED:20231115T085514Z
LAST-MODIFIED:20231115T085514Z
UID:10000019-1700078400-1700078400@torrent.es
SUMMARY:"Cartas Vivas" Teatro en el Festival Torrent Històrica
DESCRIPTION:Arranca una nueva edición de Torrent Històrica.\n\n\n\nEl teatro inaugura la programación de esta edición\, con la representación de la obra “Cartas Vivas: Carmen Laforet – Elena Fortún”\, bajo la dirección de Paula Paz y la interpretación de Paula Rodríguez y Elena Sanz\n\n\n\nEn l’Auditori de Torrent a las 20:00h\n\n\nVenta de Entradas: https://www.auditoritorrent.com/cartas-vivas
URL:https://torrent.es/evento/cartas-vivas-teatro-en-el-festival-torrent-historica/
LOCATION:Auditori de Torrent\, Vicent Pallardó\, 25\, Torrent\, Valencia\, 46900\, España
CATEGORIES:Cultura
ATTACH;FMTTYPE=image/png:https://torrent.es/wp-content/uploads/2023/11/DESTACADOS-AGENDA-TORRENT.es1_.png
END:VEVENT
BEGIN:VEVENT
DTSTART;TZID=UTC:20231116T171500
DTEND;TZID=UTC:20231116T190000
DTSTAMP:20260424T150724
CREATED:20231115T084314Z
LAST-MODIFIED:20231115T084314Z
UID:10000018-1700154900-1700161200@torrent.es
SUMMARY:Taller Ambiental en la Plaza Fray Antonio Panes
DESCRIPTION:El Mes del Medio Ambiente sigue llenando las plazas de Torrent.\n\n\n\nMañana\, jueves 16 de noviembre >> Taller Ambiental en la Plaza Fray Antonio Panes (17:15h)\n\n\n\n ¡Disfruta del Mes del Medio Ambiente 2023! Toda la información: acortar.link/USiI89
URL:https://torrent.es/evento/taller-ambiental-en-la-plaza-fray-antonio-panes/
LOCATION:Plaza Fray Antonio Panes\, Plaza Fray Antonio Panes\, Torrent\, Valencia\, 46900\, España
CATEGORIES:Medio Ambiente
ATTACH;FMTTYPE=image/png:https://torrent.es/wp-content/uploads/2023/11/DESTACADOS-AGENDA-TORRENT.es_.png
END:VEVENT
BEGIN:VEVENT
DTSTART;TZID=UTC:20231117T200000
DTEND;TZID=UTC:20231117T200000
DTSTAMP:20260424T150724
CREATED:20231115T090634Z
LAST-MODIFIED:20231116T124800Z
UID:10000020-1700251200-1700251200@torrent.es
SUMMARY:Entrega Premio Cónsul Honorario de Torrent Històrica
DESCRIPTION:Entrega del premio CÓNSUL HONORARIO a Juan Luis Arsuaga por su aportación a la cultura y al aprendizaje de quienes somos\, tanto a través de una ingente labor de investigación como a su fresco trabajo de divulgador de conocimiento\, que tiene una legión de seguidores ávidos de conocimiento. \nA continuación: \nSIETE MILLONES DE AÑOS DE EVOLUCIÓN con JUAN LUIS ARSUAGA\nPresenta: Santiago Álvarez \nA partir de la observación del cuerpo humano a través del arte y de su conocimiento como paleontólogo\, Juan Luis Arsuaga nos invita a descubrir de forma sencilla y amena las maravillas que lo componen y cómo y por qué han evolucionado a lo largo de los siglos. Con su mirada lúcida\, divertida e ingeniosa viajaremos al pasado para acercarnos a ese gran desconocido\, nuestro cuerpo. Porque todas y cada una de sus partes son un prodigio de la evolución. Y todo está… al alcance de nuestra mano.
URL:https://torrent.es/evento/entrega-premio-consul-honorario-de-torrent-historica/
LOCATION:Salón de Actos Ajuntament de Torrent\, Ramón y Cajal\, 1\, Torrent\, Valencia\, 46900\, España
CATEGORIES:Cultura
ATTACH;FMTTYPE=image/png:https://torrent.es/wp-content/uploads/2023/11/DESTACADOS-AGENDA-TORRENT.es2_.png
END:VEVENT
END:VCALENDAR